BEGIN:VCALENDAR
VERSION:2.0
PRODID:-//Femmes de challenges - ECPv6.15.12.2//NONSGML v1.0//EN
CALSCALE:GREGORIAN
METHOD:PUBLISH
X-ORIGINAL-URL:https://femmesdechallenges.com
X-WR-CALDESC:Évènements pour Femmes de challenges
REFRESH-INTERVAL;VALUE=DURATION:PT1H
X-Robots-Tag:noindex
X-PUBLISHED-TTL:PT1H
BEGIN:VTIMEZONE
TZID:UTC
BEGIN:STANDARD
TZOFFSETFROM:+0000
TZOFFSETTO:+0000
TZNAME:UTC
DTSTART:20250101T000000
END:STANDARD
END:VTIMEZONE
BEGIN:VEVENT
DTSTART;TZID=UTC:20260310T133000
DTEND;TZID=UTC:20260310T153000
DTSTAMP:20260421T110045
CREATED:20260210T092428Z
LAST-MODIFIED:20260223T133106Z
UID:30423-1773149400-1773156600@femmesdechallenges.com
SUMMARY:Le rendez-vous des Femmes de Challenges
DESCRIPTION:Et si votre rapport à l’argent se jouait aussi ailleurs que dans votre tête ?\nLe 10 mars\, nous vous propose un atelier gratuit de 2 heures à destination des femmes entrepreneures pour explorer le lien entre argent\, intuition et ressenti corporel. \nUn espace pour expérimenter\, ressentir\, échanger\, et prendre conscience de ce qui se joue à l’intérieur quand il est question d’abondance. \nJe serai accompagnée de Juliette Leclercq\, coach & thérapeute qui accompagne femmes à s’appuyer sur leur monde intérieur pour faire émerger un business vivant\, aligné et nourri par la paix du cœur. \nElle vous fera vivre une expérience\, un avant-goût du séminaire Femmes de Challenge qui aura lieu en juin. \nA mardi 10 mars 🙂 \n  \n \n\n 
URL:https://femmesdechallenges.com/event/le-rendez-vous-des-femmes-de-challenges-2/
ATTACH;FMTTYPE=image/jpeg:https://femmesdechallenges.com/wp-content/uploads/2026/02/Le-rendez-vous-des2.jpg
END:VEVENT
END:VCALENDAR