BEGIN:VCALENDAR
VERSION:2.0
PRODID:-//Femmes de challenges - ECPv6.15.12.2//NONSGML v1.0//EN
CALSCALE:GREGORIAN
METHOD:PUBLISH
X-ORIGINAL-URL:https://femmesdechallenges.com
X-WR-CALDESC:Évènements pour Femmes de challenges
REFRESH-INTERVAL;VALUE=DURATION:PT1H
X-Robots-Tag:noindex
X-PUBLISHED-TTL:PT1H
BEGIN:VTIMEZONE
TZID:UTC
BEGIN:STANDARD
TZOFFSETFROM:+0000
TZOFFSETTO:+0000
TZNAME:UTC
DTSTART:20250101T000000
END:STANDARD
END:VTIMEZONE
BEGIN:VEVENT
DTSTART;TZID=UTC:20260210T123000
DTEND;TZID=UTC:20260210T143000
DTSTAMP:20260421T121453
CREATED:20260203T142001Z
LAST-MODIFIED:20260205T103351Z
UID:30392-1770726600-1770733800@femmesdechallenges.com
SUMMARY:Le rendez-vous des Femmes de Challenges
DESCRIPTION:Les décisions clés qui m’ont permis de générer 11000€ en janvier\n(et pourquoi ce n’est pas une question de travailler plus) \nDans cet atelier\, je ne vais pas vous parler de recettes miracles.\nJe vais vous partager : \n\nles décisions concrètes que j’ai prises\nles choix que je n’ai plus faits\nla posture intérieure qui a changé\net ce que ces résultats disent vraiment de notre relation à l’argent\n\nL’objectif de ce rendez-vous est simple et profond à la fois : \n\nprovoquer des prises de conscience\ntransformer votre rapport à l’argent\net ouvrir votre capacité à recevoir\, sans culpabilité
URL:https://femmesdechallenges.com/event/le-rendez-vous-des-femmes-de-challenges/
ATTACH;FMTTYPE=image/jpeg:https://femmesdechallenges.com/wp-content/uploads/2026/02/Le-rendez-vous-des2.jpg
END:VEVENT
END:VCALENDAR